BEGIN:VCALENDAR
VERSION:2.0
PRODID:-//Plone.org//NONSGML plone.app.event//EN
X-WR-TIMEZONE:Europe/Madrid
BEGIN:VEVENT
SUMMARY:Sessió informativa: Regularització extraordinària de persones m
 igrants 2026
DTSTART;TZID=Europe/Madrid;VALUE=DATE-TIME:20260427T153000
DTEND;TZID=Europe/Madrid;VALUE=DATE-TIME:20260427T173000
DTSTAMP;VALUE=DATE-TIME:20260423T172924Z
UID:baf7002c7ce94007abdcde436f1213ed@www.molletvalles.cat
CATEGORIES:Actes diversos
CREATED;VALUE=DATE-TIME:20260423T090630Z
LAST-MODIFIED;VALUE=DATE-TIME:20260423T091308Z
URL:https://www.molletvalles.cat/ca/actualitat/agenda/copy_of_sessio-infor
 mativa-regularitzacio-extraordinaria-de-persones-migrants-2026
END:VEVENT
BEGIN:VTIMEZONE
TZID:Europe/Madrid
X-LIC-LOCATION:Europe/Madrid
BEGIN:DAYLIGHT
DTSTART;VALUE=DATE-TIME:20260329T030000
TZNAME:CEST
TZOFFSETFROM:+0100
TZOFFSETTO:+0200
END:DAYLIGHT
END:VTIMEZONE
END:VCALENDAR
