BEGIN:VCALENDAR
VERSION:2.0
PRODID:-//Plone.org//NONSGML plone.app.event//EN
X-WR-TIMEZONE:Europe/Madrid
BEGIN:VEVENT
SUMMARY:Taller de cuina amb melmelada de les Taronges Amargues de Santa Ro
 sa
DTSTART;TZID=Europe/Madrid;VALUE=DATE-TIME:20251127T110000
DTEND;TZID=Europe/Madrid;VALUE=DATE-TIME:20251127T130000
DTSTAMP;VALUE=DATE-TIME:20260421T155805Z
UID:a2702f94b5564611bade4f878e570105@www.molletvalles.cat
CATEGORIES:Cursos i tallers
CREATED;VALUE=DATE-TIME:20251111T095307Z
DESCRIPTION:SETMANA EUROPEA DE PREVENCIÓ DE RESIDUS
LAST-MODIFIED;VALUE=DATE-TIME:20251111T100528Z
LOCATION:Servei de Rehabilitació Comunitària
URL:https://www.molletvalles.cat/ca/actualitat/agenda/copy_of_taller-de-cu
 ina-amb-melmelada-de-les-taronges-amargues-de-santa-rosa-1
END:VEVENT
BEGIN:VTIMEZONE
TZID:Europe/Madrid
X-LIC-LOCATION:Europe/Madrid
BEGIN:STANDARD
DTSTART;VALUE=DATE-TIME:20251026T020000
TZNAME:CET
TZOFFSETFROM:+0200
TZOFFSETTO:+0100
END:STANDARD
END:VTIMEZONE
END:VCALENDAR
