BEGIN:VCALENDAR
VERSION:2.0
PRODID:-//Plone.org//NONSGML plone.app.event//EN
X-WR-TIMEZONE:Europe/Madrid
BEGIN:VEVENT
SUMMARY:Estampació amb materials naturals
DTSTART;TZID=Europe/Madrid;VALUE=DATE-TIME:20250531T120000
DTEND;TZID=Europe/Madrid;VALUE=DATE-TIME:20250531T130000
DTSTAMP;VALUE=DATE-TIME:20260423T140228Z
UID:de548fcea3f744b2b5ddf2abe23e640f@www.molletvalles.cat
CATEGORIES:Cursos i tallers,Infantil
CREATED;VALUE=DATE-TIME:20250522T072752Z
LAST-MODIFIED;VALUE=DATE-TIME:20250528T072549Z
LOCATION:Abacus Mollet
URL:https://www.molletvalles.cat/ca/actualitat/agenda/copy_of_taller-inici
 acio-al-lettering
END:VEVENT
BEGIN:VTIMEZONE
TZID:Europe/Madrid
X-LIC-LOCATION:Europe/Madrid
BEGIN:DAYLIGHT
DTSTART;VALUE=DATE-TIME:20250330T030000
TZNAME:CEST
TZOFFSETFROM:+0100
TZOFFSETTO:+0200
END:DAYLIGHT
END:VTIMEZONE
END:VCALENDAR
