BEGIN:VCALENDAR
VERSION:2.0
PRODID:-//Plone.org//NONSGML plone.app.event//EN
X-WR-TIMEZONE:Europe/Madrid
BEGIN:VEVENT
SUMMARY:Taller "Rehabilitació energètica d’edificis i habitatges"
DTSTART;TZID=Europe/Madrid;VALUE=DATE-TIME:20250604T151500
DTEND;TZID=Europe/Madrid;VALUE=DATE-TIME:20250604T170000
DTSTAMP;VALUE=DATE-TIME:20260421T173856Z
UID:ba12ec8c8fe64e73b699f1b9386760e2@www.molletvalles.cat
CATEGORIES:Cursos i tallers
CREATED;VALUE=DATE-TIME:20250507T112429Z
LAST-MODIFIED;VALUE=DATE-TIME:20250512T104641Z
URL:https://www.molletvalles.cat/ca/actualitat/agenda/copy_of_taller-inspe
 ccio-tecnica-dels-edificis-d2019habitatges-ite-i-financament-de-la-rehabil
 itacio
END:VEVENT
BEGIN:VTIMEZONE
TZID:Europe/Madrid
X-LIC-LOCATION:Europe/Madrid
BEGIN:DAYLIGHT
DTSTART;VALUE=DATE-TIME:20250330T030000
TZNAME:CEST
TZOFFSETFROM:+0100
TZOFFSETTO:+0200
END:DAYLIGHT
END:VTIMEZONE
END:VCALENDAR
