BEGIN:VCALENDAR
VERSION:2.0
PRODID:-//Plone.org//NONSGML plone.app.event//EN
X-WR-TIMEZONE:Europe/Madrid
BEGIN:VEVENT
SUMMARY:CRUZ DE MAYO
DTSTART;VALUE=DATE:20260501
DTEND;VALUE=DATE:20260504
DTSTAMP;VALUE=DATE-TIME:20260423T172137Z
UID:980a6e1822844ccba0cce3229fe4effa@www.molletvalles.cat
CATEGORIES:Festes populars
CREATED;VALUE=DATE-TIME:20260423T072904Z
LAST-MODIFIED;VALUE=DATE-TIME:20260423T104511Z
URL:https://www.molletvalles.cat/ca/actualitat/agenda/cruz-de-mayo
END:VEVENT
END:VCALENDAR
