BEGIN:VCALENDAR
VERSION:2.0
PRODID:-//Plone.org//NONSGML plone.app.event//EN
X-WR-TIMEZONE:Europe/Madrid
BEGIN:VEVENT
SUMMARY:DIA INTERNACIONAL DELS MUSEUS: Taller familiar\, visita guiada i  
 joc de pistes
DTSTART;VALUE=DATE:20230513
DTEND;VALUE=DATE:20230514
DTSTAMP;VALUE=DATE-TIME:20260421T155924Z
UID:449086fbe88146e1b267c221f3cc3320@www.molletvalles.cat
CATEGORIES:Exposicions
CREATED;VALUE=DATE-TIME:20230505T063957Z
LAST-MODIFIED;VALUE=DATE-TIME:20230511T120034Z
URL:https://www.molletvalles.cat/ca/actualitat/agenda/dia-internacional-de
 ls-museus-taller-familiar-visita-guiada-joc-de-pistes-i-la-nit-dels-museus
END:VEVENT
END:VCALENDAR
