BEGIN:VCALENDAR
VERSION:2.0
PRODID:-//Plone.org//NONSGML plone.app.event//EN
X-WR-TIMEZONE:Europe/Madrid
BEGIN:VEVENT
SUMMARY:Diada Castellera amb: Castellers de Castellar\, Colla Jove d'Hospi
 talet i Castellers de Mollet
DTSTART;TZID=Europe/Madrid;VALUE=DATE-TIME:20230723T120000
DTEND;TZID=Europe/Madrid;VALUE=DATE-TIME:20230723T130000
DTSTAMP;VALUE=DATE-TIME:20260421T114334Z
UID:1e70eda3329843a089638a25f1413c50@www.molletvalles.cat
CATEGORIES:Festes populars
CREATED;VALUE=DATE-TIME:20230705T071225Z
DESCRIPTION:FESTA MAJOR DE GALLECS 2023
LAST-MODIFIED;VALUE=DATE-TIME:20230712T092319Z
LOCATION:Plaça de l'Església de Gallecs
URL:https://www.molletvalles.cat/ca/actualitat/agenda/diada-castellera-amb
 -castellers-de-castellar-colla-jove-dhospitalet-i-castellers-de-mollet
END:VEVENT
BEGIN:VTIMEZONE
TZID:Europe/Madrid
X-LIC-LOCATION:Europe/Madrid
BEGIN:DAYLIGHT
DTSTART;VALUE=DATE-TIME:20230326T030000
TZNAME:CEST
TZOFFSETFROM:+0100
TZOFFSETTO:+0200
END:DAYLIGHT
END:VTIMEZONE
END:VCALENDAR
