BEGIN:VCALENDAR
VERSION:2.0
PRODID:-//Plone.org//NONSGML plone.app.event//EN
X-WR-TIMEZONE:Europe/Madrid
BEGIN:VEVENT
SUMMARY:Diada Castellera de Sant Jordi
DTSTART;TZID=Europe/Madrid;VALUE=DATE-TIME:20260426T120000
DTEND;TZID=Europe/Madrid;VALUE=DATE-TIME:20260426T130000
DTSTAMP;VALUE=DATE-TIME:20260422T002425Z
UID:483d707c897549e1b47f21de0d3af082@www.molletvalles.cat
CATEGORIES:Festes populars
CREATED;VALUE=DATE-TIME:20260421T064750Z
DESCRIPTION:SANT JORDI 2026
LAST-MODIFIED;VALUE=DATE-TIME:20260421T072117Z
LOCATION:Plaça Prat de la Riba
URL:https://www.molletvalles.cat/ca/actualitat/agenda/diada-castellera-de-
 sant-jordi-2
END:VEVENT
BEGIN:VTIMEZONE
TZID:Europe/Madrid
X-LIC-LOCATION:Europe/Madrid
BEGIN:DAYLIGHT
DTSTART;VALUE=DATE-TIME:20260329T030000
TZNAME:CEST
TZOFFSETFROM:+0100
TZOFFSETTO:+0200
END:DAYLIGHT
END:VTIMEZONE
END:VCALENDAR
