BEGIN:VCALENDAR
VERSION:2.0
PRODID:-//Plone.org//NONSGML plone.app.event//EN
X-WR-TIMEZONE:Europe/Madrid
BEGIN:VEVENT
SUMMARY:DIADA D'ESPIADIMONIS
DTSTART;VALUE=DATE:20260425
DTEND;VALUE=DATE:20260426
DTSTAMP;VALUE=DATE-TIME:20260422T225237Z
UID:98fad834f6cf49eb9801019476c9c71a@www.molletvalles.cat
CATEGORIES:Festes populars
CREATED;VALUE=DATE-TIME:20260422T113051Z
LAST-MODIFIED;VALUE=DATE-TIME:20260422T114450Z
LOCATION:Cercavila: Rambla fiveller fins a Plaça Prat de la Riba/ Invocac
 ió  i correfoc a la Plaça Major (davant del Vivari)
URL:https://www.molletvalles.cat/ca/actualitat/agenda/diada-despiadimonis-
 1
END:VEVENT
END:VCALENDAR
