BEGIN:VCALENDAR
VERSION:2.0
PRODID:-//Plone.org//NONSGML plone.app.event//EN
X-WR-TIMEZONE:Europe/Madrid
BEGIN:VEVENT
SUMMARY:Diada d'inici de temporada dels Castellers de Mollet amb els Manya
 cs de Parets
DTSTART;TZID=Europe/Madrid;VALUE=DATE-TIME:20250323T120000
DTEND;TZID=Europe/Madrid;VALUE=DATE-TIME:20250323T130000
DTSTAMP;VALUE=DATE-TIME:20260421T140709Z
UID:8b3018f1c81b473793b47a8fbc795b89@www.molletvalles.cat
CATEGORIES:Festes populars
CREATED;VALUE=DATE-TIME:20250318T121951Z
LAST-MODIFIED;VALUE=DATE-TIME:20250319T104929Z
LOCATION:Parc Rafael Alberti
URL:https://www.molletvalles.cat/ca/actualitat/agenda/diada-dinici-de-temp
 orada-dels-castellers-de-mollet-amb-els-manyacs-de-parets
END:VEVENT
BEGIN:VTIMEZONE
TZID:Europe/Madrid
X-LIC-LOCATION:Europe/Madrid
BEGIN:STANDARD
DTSTART;VALUE=DATE-TIME:20241027T020000
TZNAME:CET
TZOFFSETFROM:+0200
TZOFFSETTO:+0100
END:STANDARD
END:VTIMEZONE
END:VCALENDAR
