BEGIN:VCALENDAR
VERSION:2.0
PRODID:-//Plone.org//NONSGML plone.app.event//EN
X-WR-TIMEZONE:Europe/Madrid
BEGIN:VEVENT
SUMMARY:Dibuixades i diverses. Taller de còmic
DTSTART;TZID=Europe/Madrid;VALUE=DATE-TIME:20240920T190000
DTEND;TZID=Europe/Madrid;VALUE=DATE-TIME:20240920T200000
DTSTAMP;VALUE=DATE-TIME:20260425T162316Z
UID:50f9a05a90dc4c139107298cdd7169bd@www.molletvalles.cat
CATEGORIES:Cursos i tallers
CREATED;VALUE=DATE-TIME:20240910T101702Z
LAST-MODIFIED;VALUE=DATE-TIME:20240916T085919Z
URL:https://www.molletvalles.cat/ca/actualitat/agenda/dibuixades-i-diverse
 s-taller-de-comic
END:VEVENT
BEGIN:VTIMEZONE
TZID:Europe/Madrid
X-LIC-LOCATION:Europe/Madrid
BEGIN:DAYLIGHT
DTSTART;VALUE=DATE-TIME:20240331T030000
TZNAME:CEST
TZOFFSETFROM:+0100
TZOFFSETTO:+0200
END:DAYLIGHT
END:VTIMEZONE
END:VCALENDAR
