BEGIN:VCALENDAR
VERSION:2.0
PRODID:-//Plone.org//NONSGML plone.app.event//EN
X-WR-TIMEZONE:Europe/Madrid
BEGIN:VEVENT
SUMMARY:Directe al Cívic: Actuacions de Flamsteed i Miratges (Punk /Rock)
DTSTART;TZID=Europe/Madrid;VALUE=DATE-TIME:20240503T213000
DTEND;TZID=Europe/Madrid;VALUE=DATE-TIME:20240503T223000
DTSTAMP;VALUE=DATE-TIME:20260419T234233Z
UID:f2af4ae5d78941159aa6028945671b9a@www.molletvalles.cat
CATEGORIES:Música
CREATED;VALUE=DATE-TIME:20240422T083953Z
LAST-MODIFIED;VALUE=DATE-TIME:20240422T112045Z
URL:https://www.molletvalles.cat/ca/actualitat/agenda/directe-al-civic-act
 uacions-de-flamsteed-i-miratges-punk-rock
END:VEVENT
BEGIN:VTIMEZONE
TZID:Europe/Madrid
X-LIC-LOCATION:Europe/Madrid
BEGIN:DAYLIGHT
DTSTART;VALUE=DATE-TIME:20240331T030000
TZNAME:CEST
TZOFFSETFROM:+0100
TZOFFSETTO:+0200
END:DAYLIGHT
END:VTIMEZONE
END:VCALENDAR
