BEGIN:VCALENDAR
VERSION:2.0
PRODID:-//Plone.org//NONSGML plone.app.event//EN
X-WR-TIMEZONE:Europe/Madrid
BEGIN:VEVENT
SUMMARY:Directe al Cívic - ESPECIAL NADAL-: Actuació de" Conchas del asc
 o"
DTSTART;TZID=Europe/Madrid;VALUE=DATE-TIME:20241213T213000
DTEND;TZID=Europe/Madrid;VALUE=DATE-TIME:20241213T223000
DTSTAMP;VALUE=DATE-TIME:20260421T174754Z
UID:72c8af2ab0c04100bad85cc2de49f612@www.molletvalles.cat
CATEGORIES:Música
CREATED;VALUE=DATE-TIME:20241128T110123Z
LAST-MODIFIED;VALUE=DATE-TIME:20241128T111205Z
URL:https://www.molletvalles.cat/ca/actualitat/agenda/directe-al-civic-esp
 ecial-nadal-actuacio-de-conchas-del-asco
END:VEVENT
BEGIN:VTIMEZONE
TZID:Europe/Madrid
X-LIC-LOCATION:Europe/Madrid
BEGIN:STANDARD
DTSTART;VALUE=DATE-TIME:20241027T020000
TZNAME:CET
TZOFFSETFROM:+0200
TZOFFSETTO:+0100
END:STANDARD
END:VTIMEZONE
END:VCALENDAR
