BEGIN:VCALENDAR
VERSION:2.0
PRODID:-//Plone.org//NONSGML plone.app.event//EN
X-WR-TIMEZONE:Europe/Madrid
BEGIN:VEVENT
SUMMARY:Directe al Cívic: Música metal amb els grups GUTS & BONES i SIXS
 TRINGS
DTSTART;TZID=Europe/Madrid;VALUE=DATE-TIME:20230203T213000
DTEND;TZID=Europe/Madrid;VALUE=DATE-TIME:20230203T223000
DTSTAMP;VALUE=DATE-TIME:20260421T140048Z
UID:bb681d78f1f144cabc44adad0c4d5ce8@www.molletvalles.cat
CATEGORIES:Música\, cinema i espectacles
CREATED;VALUE=DATE-TIME:20230130T100228Z
LAST-MODIFIED;VALUE=DATE-TIME:20230209T085512Z
URL:https://www.molletvalles.cat/ca/actualitat/agenda/directe-al-civic-mus
 ica-metal-amb-els-grups-guts-bones-i-sixstrings
END:VEVENT
BEGIN:VTIMEZONE
TZID:Europe/Madrid
X-LIC-LOCATION:Europe/Madrid
BEGIN:STANDARD
DTSTART;VALUE=DATE-TIME:20221030T020000
TZNAME:CET
TZOFFSETFROM:+0200
TZOFFSETTO:+0100
END:STANDARD
END:VTIMEZONE
END:VCALENDAR
