BEGIN:VCALENDAR
VERSION:2.0
PRODID:-//Plone.org//NONSGML plone.app.event//EN
X-WR-TIMEZONE:Europe/Madrid
BEGIN:VEVENT
SUMMARY:Discoteca per a petits i grans
DTSTART;TZID=Europe/Madrid;VALUE=DATE-TIME:20240426T173000
DTEND;TZID=Europe/Madrid;VALUE=DATE-TIME:20240426T183000
DTSTAMP;VALUE=DATE-TIME:20260419T181828Z
UID:955ad2f849ab475f96dc591875a2534a@www.molletvalles.cat
CATEGORIES:Ball
CREATED;VALUE=DATE-TIME:20240328T105505Z
LAST-MODIFIED;VALUE=DATE-TIME:20240402T082624Z
URL:https://www.molletvalles.cat/ca/actualitat/agenda/discoteca-per-a-peti
 ts-i-grans-10
END:VEVENT
BEGIN:VTIMEZONE
TZID:Europe/Madrid
X-LIC-LOCATION:Europe/Madrid
BEGIN:DAYLIGHT
DTSTART;VALUE=DATE-TIME:20240331T030000
TZNAME:CEST
TZOFFSETFROM:+0100
TZOFFSETTO:+0200
END:DAYLIGHT
END:VTIMEZONE
END:VCALENDAR
