BEGIN:VCALENDAR
VERSION:2.0
PRODID:-//Plone.org//NONSGML plone.app.event//EN
X-WR-TIMEZONE:Europe/Madrid
BEGIN:VEVENT
SUMMARY:Discoteca per a petits i grans
DTSTART;TZID=Europe/Madrid;VALUE=DATE-TIME:20230324T173000
DTEND;TZID=Europe/Madrid;VALUE=DATE-TIME:20230324T183000
DTSTAMP;VALUE=DATE-TIME:20260419T181844Z
UID:3660f855e0b241eda072b06faefd5b70@www.molletvalles.cat
CATEGORIES:Música\, cinema i espectacles
CREATED;VALUE=DATE-TIME:20230222T125659Z
LAST-MODIFIED;VALUE=DATE-TIME:20230310T121325Z
URL:https://www.molletvalles.cat/ca/actualitat/agenda/discoteca-per-a-peti
 ts-i-grans-2
END:VEVENT
BEGIN:VTIMEZONE
TZID:Europe/Madrid
X-LIC-LOCATION:Europe/Madrid
BEGIN:STANDARD
DTSTART;VALUE=DATE-TIME:20221030T020000
TZNAME:CET
TZOFFSETFROM:+0200
TZOFFSETTO:+0100
END:STANDARD
END:VTIMEZONE
END:VCALENDAR
