BEGIN:VCALENDAR
VERSION:2.0
PRODID:-//Plone.org//NONSGML plone.app.event//EN
X-WR-TIMEZONE:Europe/Madrid
BEGIN:VEVENT
SUMMARY:Discoteca per a petits i grans
DTSTART;TZID=Europe/Madrid;VALUE=DATE-TIME:20240126T173000
DTEND;TZID=Europe/Madrid;VALUE=DATE-TIME:20240126T183000
DTSTAMP;VALUE=DATE-TIME:20260419T181837Z
UID:7ec02a1e192244f49edbe3b1b8084d56@www.molletvalles.cat
CATEGORIES:Música,Infantil
CREATED;VALUE=DATE-TIME:20240108T123402Z
LAST-MODIFIED;VALUE=DATE-TIME:20240108T123554Z
URL:https://www.molletvalles.cat/ca/actualitat/agenda/discoteca-per-a-peti
 ts-i-grans-7
END:VEVENT
BEGIN:VTIMEZONE
TZID:Europe/Madrid
X-LIC-LOCATION:Europe/Madrid
BEGIN:STANDARD
DTSTART;VALUE=DATE-TIME:20231029T020000
TZNAME:CET
TZOFFSETFROM:+0200
TZOFFSETTO:+0100
END:STANDARD
END:VTIMEZONE
END:VCALENDAR
