BEGIN:VCALENDAR
VERSION:2.0
PRODID:-//Plone.org//NONSGML plone.app.event//EN
X-WR-TIMEZONE:Europe/Madrid
BEGIN:VEVENT
SUMMARY:DJ  Modyo
DTSTART;TZID=Europe/Madrid;VALUE=DATE-TIME:20230723T023000
DTEND;TZID=Europe/Madrid;VALUE=DATE-TIME:20230723T033000
DTSTAMP;VALUE=DATE-TIME:20260423T135118Z
UID:475c893d14734d6a92426127900130df@www.molletvalles.cat
CATEGORIES:Festes populars
CREATED;VALUE=DATE-TIME:20230704T132505Z
DESCRIPTION:FESTA MAJOR DE GALLECS 2023
LAST-MODIFIED;VALUE=DATE-TIME:20230706T123630Z
LOCATION:Darrera Plaça de l'església de Gallecs
URL:https://www.molletvalles.cat/ca/actualitat/agenda/dj-modyo
END:VEVENT
BEGIN:VTIMEZONE
TZID:Europe/Madrid
X-LIC-LOCATION:Europe/Madrid
BEGIN:DAYLIGHT
DTSTART;VALUE=DATE-TIME:20230326T030000
TZNAME:CEST
TZOFFSETFROM:+0100
TZOFFSETTO:+0200
END:DAYLIGHT
END:VTIMEZONE
END:VCALENDAR
