BEGIN:VCALENDAR
VERSION:2.0
PRODID:-//Plone.org//NONSGML plone.app.event//EN
X-WR-TIMEZONE:Europe/Madrid
BEGIN:VEVENT
SUMMARY:Doble sessió de cinema infantil i familiar a la fresca: "El 47" (
 Català-Castellà\, 110 min) "Bitelchús" (Castellà\,104 min)
DTSTART;TZID=Europe/Madrid;VALUE=DATE-TIME:20250817T213000
DTEND;TZID=Europe/Madrid;VALUE=DATE-TIME:20250817T234500
DTSTAMP;VALUE=DATE-TIME:20260421T160745Z
UID:acefa63a2fdf42a3973fb8b963592604@www.molletvalles.cat
CATEGORIES:Cinema,Turisme
CREATED;VALUE=DATE-TIME:20250731T065600Z
DESCRIPTION:FESTA MAJOR 2025
LAST-MODIFIED;VALUE=DATE-TIME:20250731T112847Z
LOCATION:Parc de Les Pruneres
URL:https://www.molletvalles.cat/ca/actualitat/agenda/doble-sessio-de-cine
 ma-infantil-i-familiar-a-la-fresca-el-47-catala-castella-110-min-bitelchus
 -castella-104-min
END:VEVENT
BEGIN:VTIMEZONE
TZID:Europe/Madrid
X-LIC-LOCATION:Europe/Madrid
BEGIN:DAYLIGHT
DTSTART;VALUE=DATE-TIME:20250330T030000
TZNAME:CEST
TZOFFSETFROM:+0100
TZOFFSETTO:+0200
END:DAYLIGHT
END:VTIMEZONE
END:VCALENDAR
