BEGIN:VCALENDAR
VERSION:2.0
PRODID:-//Plone.org//NONSGML plone.app.event//EN
X-WR-TIMEZONE:Europe/Madrid
BEGIN:VEVENT
SUMMARY:Doble sessió de cinema infantil i familiar a la fresca: Super Mar
 io Bros (Català) i Cazafantasmas - Imperio Helado -(Castellà)
DTSTART;TZID=Europe/Madrid;VALUE=DATE-TIME:20240818T213000
DTEND;TZID=Europe/Madrid;VALUE=DATE-TIME:20240818T223000
DTSTAMP;VALUE=DATE-TIME:20260419T161951Z
UID:42ee9c066ae8466580359e29fbc9c093@www.molletvalles.cat
CATEGORIES:Cinema
CREATED;VALUE=DATE-TIME:20240729T095037Z
DESCRIPTION:FESTA MAJOR 2024
LAST-MODIFIED;VALUE=DATE-TIME:20240729T104046Z
LOCATION:Parc de Les Pruneres
URL:https://www.molletvalles.cat/ca/actualitat/agenda/doble-sessio-de-cine
 ma-infantil-i-familiar-a-la-fresca-super-mario-bros-catala-i-cazafantasmas
 -imperio-helado-castella
END:VEVENT
BEGIN:VTIMEZONE
TZID:Europe/Madrid
X-LIC-LOCATION:Europe/Madrid
BEGIN:DAYLIGHT
DTSTART;VALUE=DATE-TIME:20240331T030000
TZNAME:CEST
TZOFFSETFROM:+0100
TZOFFSETTO:+0200
END:DAYLIGHT
END:VTIMEZONE
END:VCALENDAR
