BEGIN:VCALENDAR
VERSION:2.0
PRODID:-//Plone.org//NONSGML plone.app.event//EN
X-WR-TIMEZONE:Europe/Madrid
BEGIN:VEVENT
SUMMARY:Els singulars de la Festa - Trobada d'elements festius de les fest
 es
DTSTART;TZID=Europe/Madrid;VALUE=DATE-TIME:20240813T183000
DTEND;TZID=Europe/Madrid;VALUE=DATE-TIME:20240813T193000
DTSTAMP;VALUE=DATE-TIME:20260421T140117Z
UID:99bbb95972e548fb8af7268dfbe43b32@www.molletvalles.cat
CATEGORIES:Festes populars
CREATED;VALUE=DATE-TIME:20240723T073007Z
DESCRIPTION:FESTA MAJOR 2024
LAST-MODIFIED;VALUE=DATE-TIME:20240723T100448Z
LOCATION:Plaça de l'Artesania i recorregut
URL:https://www.molletvalles.cat/ca/actualitat/agenda/els-singulars-de-la-
 festa-trobada-delements-festius-de-les-festes-1
END:VEVENT
BEGIN:VTIMEZONE
TZID:Europe/Madrid
X-LIC-LOCATION:Europe/Madrid
BEGIN:DAYLIGHT
DTSTART;VALUE=DATE-TIME:20240331T030000
TZNAME:CEST
TZOFFSETFROM:+0100
TZOFFSETTO:+0200
END:DAYLIGHT
END:VTIMEZONE
END:VCALENDAR
