BEGIN:VCALENDAR
VERSION:2.0
PRODID:-//Plone.org//NONSGML plone.app.event//EN
X-WR-TIMEZONE:Europe/Madrid
BEGIN:VEVENT
SUMMARY:Emissió especial de Sant Jordi. Ràdio Mollet
DTSTART;VALUE=DATE:20260423
DTEND;VALUE=DATE:20260424
DTSTAMP;VALUE=DATE-TIME:20260421T032053Z
UID:2a6cf7d22ce841b4a32262b9ea0f4619@www.molletvalles.cat
CATEGORIES:Actes diversos
CREATED;VALUE=DATE-TIME:20260420T095000Z
DESCRIPTION:SANT JORDI 2026
LAST-MODIFIED;VALUE=DATE-TIME:20260420T120741Z
LOCATION:Parc de Les Pruneres
URL:https://www.molletvalles.cat/ca/actualitat/agenda/emissio-especial-de-
 radio-mollet-de-sant-jordi
END:VEVENT
END:VCALENDAR
