BEGIN:VCALENDAR
VERSION:2.0
PRODID:-//Plone.org//NONSGML plone.app.event//EN
X-WR-TIMEZONE:Europe/Madrid
BEGIN:VEVENT
SUMMARY:Encesa de l'arbre de l'AV d'Estació de França i visita al pesseb
 re de goma eva
DTSTART;TZID=Europe/Madrid;VALUE=DATE-TIME:20251128T193000
DTEND;TZID=Europe/Madrid;VALUE=DATE-TIME:20251128T203000
DTSTAMP;VALUE=DATE-TIME:20260425T121746Z
UID:632e29d385154cb78cbd6ed0791d251a@www.molletvalles.cat
CATEGORIES:Actes diversos
CREATED;VALUE=DATE-TIME:20251128T115508Z
LAST-MODIFIED;VALUE=DATE-TIME:20251128T120235Z
LOCATION:C. Francesc Macià\, 70
URL:https://www.molletvalles.cat/ca/actualitat/agenda/encesa-de-larbre-de-
 lav-destacio-de-franca-i-visita-al-pessebre-de-goma-eva
END:VEVENT
BEGIN:VTIMEZONE
TZID:Europe/Madrid
X-LIC-LOCATION:Europe/Madrid
BEGIN:STANDARD
DTSTART;VALUE=DATE-TIME:20251026T020000
TZNAME:CET
TZOFFSETFROM:+0200
TZOFFSETTO:+0100
END:STANDARD
END:VTIMEZONE
END:VCALENDAR
