BEGIN:VCALENDAR
VERSION:2.0
PRODID:-//Plone.org//NONSGML plone.app.event//EN
X-WR-TIMEZONE:Europe/Madrid
BEGIN:VEVENT
SUMMARY:Érase una vez dos pies (Companyia Verónica González - Teatro de
 i piedi)
DTSTART;TZID=Europe/Madrid;VALUE=DATE-TIME:20230401T113000
DTEND;TZID=Europe/Madrid;VALUE=DATE-TIME:20230401T123000
DTSTAMP;VALUE=DATE-TIME:20260421T160312Z
UID:e82b2b340efb4023a71321afc12fc291@www.molletvalles.cat
CATEGORIES:Arts escèniques,Música\, cinema i espectacles
CREATED;VALUE=DATE-TIME:20230322T092242Z
DESCRIPTION:MITMO 2023
LAST-MODIFIED;VALUE=DATE-TIME:20230331T083944Z
LOCATION:Plaça Catalunya
URL:https://www.molletvalles.cat/ca/actualitat/agenda/erase-una-vez-dos-pi
 es-companyia-veronica-gonzalez-teatro-dei-piedi
END:VEVENT
BEGIN:VTIMEZONE
TZID:Europe/Madrid
X-LIC-LOCATION:Europe/Madrid
BEGIN:DAYLIGHT
DTSTART;VALUE=DATE-TIME:20230326T030000
TZNAME:CEST
TZOFFSETFROM:+0100
TZOFFSETTO:+0200
END:DAYLIGHT
END:VTIMEZONE
END:VCALENDAR
