BEGIN:VCALENDAR
VERSION:2.0
PRODID:-//Plone.org//NONSGML plone.app.event//EN
X-WR-TIMEZONE:Europe/Madrid
BEGIN:VEVENT
SUMMARY:Espai Munta Titella (Companyia Galiot Teatre)
DTSTART;VALUE=DATE:20230401
DTEND;VALUE=DATE:20230402
DTSTAMP;VALUE=DATE-TIME:20260421T135742Z
UID:7de5eb531dd84d3799337c8fd7e051b3@www.molletvalles.cat
CATEGORIES:Infantil
CREATED;VALUE=DATE-TIME:20230323T084000Z
DESCRIPTION:MITMO 2023
LAST-MODIFIED;VALUE=DATE-TIME:20230331T100133Z
LOCATION:Parc de Les Pruneres
URL:https://www.molletvalles.cat/ca/actualitat/agenda/espai-munta-titella-
 companyia-galiot-teatre-2
END:VEVENT
END:VCALENDAR
