BEGIN:VCALENDAR
VERSION:2.0
PRODID:-//Plone.org//NONSGML plone.app.event//EN
X-WR-TIMEZONE:Europe/Madrid
BEGIN:VEVENT
SUMMARY:Espectacle: Follia\, 7 glops de deliri
DTSTART;TZID=Europe/Madrid;VALUE=DATE-TIME:20230303T210000
DTEND;TZID=Europe/Madrid;VALUE=DATE-TIME:20230303T220000
DTSTAMP;VALUE=DATE-TIME:20260421T155552Z
UID:d02d4c92e02f49029fcc0adc57b71b0f@www.molletvalles.cat
CATEGORIES:Música\, cinema i espectacles
CREATED;VALUE=DATE-TIME:20230125T134028Z
DESCRIPTION:ARTS I ESCENA
LAST-MODIFIED;VALUE=DATE-TIME:20230209T073141Z
URL:https://www.molletvalles.cat/ca/actualitat/agenda/espectacle-follia-7-
 glops-de-deliri
END:VEVENT
BEGIN:VTIMEZONE
TZID:Europe/Madrid
X-LIC-LOCATION:Europe/Madrid
BEGIN:STANDARD
DTSTART;VALUE=DATE-TIME:20221030T020000
TZNAME:CET
TZOFFSETFROM:+0200
TZOFFSETTO:+0100
END:STANDARD
END:VTIMEZONE
END:VCALENDAR
