BEGIN:VCALENDAR
VERSION:2.0
PRODID:-//Plone.org//NONSGML plone.app.event//EN
X-WR-TIMEZONE:Europe/Madrid
BEGIN:VEVENT
SUMMARY:Espectacle " Obre els ulls" a càrrec del Pau Segalés
DTSTART;TZID=Europe/Madrid;VALUE=DATE-TIME:20240718T193000
DTEND;TZID=Europe/Madrid;VALUE=DATE-TIME:20240718T203000
DTSTAMP;VALUE=DATE-TIME:20260421T140313Z
UID:451162fa566745259a046b171d75a7b5@www.molletvalles.cat
CATEGORIES:Espectacle
CREATED;VALUE=DATE-TIME:20240619T131849Z
DESCRIPTION:REFRESC'ART 2024
LAST-MODIFIED;VALUE=DATE-TIME:20240626T085456Z
LOCATION:Parc de Les Pruneres
URL:https://www.molletvalles.cat/ca/actualitat/agenda/espectacle-obre-els-
 ulls-a-carrec-del-pau-segales
END:VEVENT
BEGIN:VTIMEZONE
TZID:Europe/Madrid
X-LIC-LOCATION:Europe/Madrid
BEGIN:DAYLIGHT
DTSTART;VALUE=DATE-TIME:20240331T030000
TZNAME:CEST
TZOFFSETFROM:+0100
TZOFFSETTO:+0200
END:DAYLIGHT
END:VTIMEZONE
END:VCALENDAR
