BEGIN:VCALENDAR
VERSION:2.0
PRODID:-//Plone.org//NONSGML plone.app.event//EN
X-WR-TIMEZONE:Europe/Madrid
BEGIN:VEVENT
SUMMARY:Espectacle participatiu “ELS PASTORETS de pa sucat amb oli"
DTSTART;TZID=Europe/Madrid;VALUE=DATE-TIME:20231210T180000
DTEND;TZID=Europe/Madrid;VALUE=DATE-TIME:20231210T190000
DTSTAMP;VALUE=DATE-TIME:20260421T173600Z
UID:2235ae396e1b45cf833b85cd8d8933ba@www.molletvalles.cat
CATEGORIES:Arts escèniques
CREATED;VALUE=DATE-TIME:20231204T084358Z
LAST-MODIFIED;VALUE=DATE-TIME:20231204T084433Z
LOCATION:Sala Fiveller
URL:https://www.molletvalles.cat/ca/actualitat/agenda/espectacle-participa
 tiu-201cels-pastorets-de-pa-sucat-amb-oli
END:VEVENT
BEGIN:VTIMEZONE
TZID:Europe/Madrid
X-LIC-LOCATION:Europe/Madrid
BEGIN:STANDARD
DTSTART;VALUE=DATE-TIME:20231029T020000
TZNAME:CET
TZOFFSETFROM:+0200
TZOFFSETTO:+0100
END:STANDARD
END:VTIMEZONE
END:VCALENDAR
