BEGIN:VCALENDAR
VERSION:2.0
PRODID:-//Plone.org//NONSGML plone.app.event//EN
X-WR-TIMEZONE:Europe/Madrid
BEGIN:VEVENT
SUMMARY:Espectacle: "Viu la vida"\, del grup de playback de l'Associació 
 Amics de l'Art de Mollet
DTSTART;TZID=Europe/Madrid;VALUE=DATE-TIME:20240516T173000
DTEND;TZID=Europe/Madrid;VALUE=DATE-TIME:20240516T183000
DTSTAMP;VALUE=DATE-TIME:20260421T140051Z
UID:95f89e414f414fce92194467740775fe@www.molletvalles.cat
CATEGORIES:Espectacle
CREATED;VALUE=DATE-TIME:20240326T125717Z
DESCRIPTION:PER MOLTS ANYS 2024
LAST-MODIFIED;VALUE=DATE-TIME:20240326T132458Z
URL:https://www.molletvalles.cat/ca/actualitat/agenda/espectacle-viu-la-vi
 da-del-grup-de-playback-de-lassociacio-amics-de-lart-de-mollet
END:VEVENT
BEGIN:VTIMEZONE
TZID:Europe/Madrid
X-LIC-LOCATION:Europe/Madrid
BEGIN:DAYLIGHT
DTSTART;VALUE=DATE-TIME:20240331T030000
TZNAME:CEST
TZOFFSETFROM:+0100
TZOFFSETTO:+0200
END:DAYLIGHT
END:VTIMEZONE
END:VCALENDAR
