BEGIN:VCALENDAR
VERSION:2.0
PRODID:-//Plone.org//NONSGML plone.app.event//EN
X-WR-TIMEZONE:Europe/Madrid
BEGIN:VEVENT
SUMMARY:Estand municipal
DTSTART;VALUE=DATE:20260423
DTEND;VALUE=DATE:20260424
DTSTAMP;VALUE=DATE-TIME:20260421T031926Z
UID:10103b9e63ee4a2880b7f2c90a6f07cd@www.molletvalles.cat
CATEGORIES:Festes populars
CREATED;VALUE=DATE-TIME:20260420T092944Z
DESCRIPTION:SANT JORDI 2026
LAST-MODIFIED;VALUE=DATE-TIME:20260420T120958Z
LOCATION:Parc de Les Pruneres
URL:https://www.molletvalles.cat/ca/actualitat/agenda/estand-municipal-1
END:VEVENT
END:VCALENDAR
