BEGIN:VCALENDAR
VERSION:2.0
PRODID:-//Plone.org//NONSGML plone.app.event//EN
X-WR-TIMEZONE:Europe/Madrid
BEGIN:VEVENT
SUMMARY:Exposició col·leccionisme XXX aniversari Associació de Col·lec
 cionistes
DTSTART;VALUE=DATE:20230311
DTEND;VALUE=DATE:20230312
DTSTAMP;VALUE=DATE-TIME:20260425T121812Z
UID:4d2507969f41400e8d9972655c83942e@www.molletvalles.cat
CATEGORIES:Exposicions i fires
CREATED;VALUE=DATE-TIME:20230227T094753Z
LAST-MODIFIED;VALUE=DATE-TIME:20230301T072550Z
URL:https://www.molletvalles.cat/ca/actualitat/agenda/exposicio-col-leccio
 nisme-xxx-aniversari-associacio-de-col-leccionistes
END:VEVENT
END:VCALENDAR
