BEGIN:VCALENDAR
VERSION:2.0
PRODID:-//Plone.org//NONSGML plone.app.event//EN
X-WR-TIMEZONE:Europe/Madrid
BEGIN:VEVENT
SUMMARY:Exposició en Femení: "Mollet\, enlila't! Pintant un futur femini
 sta"
DTSTART;VALUE=DATE:20241004
DTEND;VALUE=DATE:20241109
DTSTAMP;VALUE=DATE-TIME:20260421T161239Z
UID:db4b640c13cf467fa17525c57224d300@www.molletvalles.cat
CATEGORIES:Exposicions
CREATED;VALUE=DATE-TIME:20241004T112804Z
LAST-MODIFIED;VALUE=DATE-TIME:20241007T070422Z
URL:https://www.molletvalles.cat/ca/actualitat/agenda/exposicio-en-femeni-
 mollet-enlilat-pintant-un-futur-feminista
END:VEVENT
END:VCALENDAR
