BEGIN:VCALENDAR
VERSION:2.0
PRODID:-//Plone.org//NONSGML plone.app.event//EN
X-WR-TIMEZONE:Europe/Madrid
BEGIN:VEVENT
SUMMARY:Exposició : Amor que cura les ferides
DTSTART;VALUE=DATE:20240524
DTEND;VALUE=DATE:20240622
DTSTAMP;VALUE=DATE-TIME:20260419T234226Z
UID:0f160cb2ad354c7cbfa286ff49d54a48@www.molletvalles.cat
CATEGORIES:Exposicions
CREATED;VALUE=DATE-TIME:20240201T084745Z
DESCRIPTION:EXPOSICIONS EN FEMENÍ
LAST-MODIFIED;VALUE=DATE-TIME:20240611T075749Z
URL:https://www.molletvalles.cat/ca/actualitat/agenda/exposicio-en-motiu-d
 el-dia-internacional-daccio-per-a-la-salut-de-les-dones
END:VEVENT
END:VCALENDAR
