BEGIN:VCALENDAR
VERSION:2.0
PRODID:-//Plone.org//NONSGML plone.app.event//EN
X-WR-TIMEZONE:Europe/Madrid
BEGIN:VEVENT
SUMMARY:Exposició: La Sastreria. Josep Tarrés\, art i ofici d'un sastre 
 molletà
DTSTART;VALUE=DATE:20240913
DTEND;VALUE=DATE:20241101
DTSTAMP;VALUE=DATE-TIME:20260421T160415Z
UID:035d38a596b3453fb2c2f7f4f5dad67e@www.molletvalles.cat
CATEGORIES:Exposicions
CREATED;VALUE=DATE-TIME:20240913T092249Z
LAST-MODIFIED;VALUE=DATE-TIME:20240916T074904Z
URL:https://www.molletvalles.cat/ca/actualitat/agenda/exposicio-la-sastrer
 ia-josep-tarres-art-i-ofici-dun-sastre-molleta
END:VEVENT
END:VCALENDAR
