BEGIN:VCALENDAR
VERSION:2.0
PRODID:-//Plone.org//NONSGML plone.app.event//EN
X-WR-TIMEZONE:Europe/Madrid
BEGIN:VEVENT
SUMMARY:Exposició: " L'Habitació del Farmacèutic". Mostra audiovisual c
 ol·lectiva
DTSTART;VALUE=DATE:20240415
DTEND;VALUE=DATE:20240504
DTSTAMP;VALUE=DATE-TIME:20260421T140528Z
UID:788902f0fe774609a4ab02ad0679e49f@www.molletvalles.cat
CATEGORIES:Exposicions
CREATED;VALUE=DATE-TIME:20240125T075038Z
LAST-MODIFIED;VALUE=DATE-TIME:20240307T073303Z
URL:https://www.molletvalles.cat/ca/actualitat/agenda/exposicio-lhabitacio
 -del-farmaceutic-mostra-audiovisual-col-lectiva
END:VEVENT
END:VCALENDAR
