BEGIN:VCALENDAR
VERSION:2.0
PRODID:-//Plone.org//NONSGML plone.app.event//EN
X-WR-TIMEZONE:Europe/Madrid
BEGIN:VEVENT
SUMMARY:Exposició: RESPIRA!
DTSTART;VALUE=DATE:20260409
DTEND;VALUE=DATE:20260518
DTSTAMP;VALUE=DATE-TIME:20260422T002219Z
UID:6dbe0bca32494d60b1b503b27d464224@www.molletvalles.cat
CATEGORIES:Exposicions
CREATED;VALUE=DATE-TIME:20260421T085639Z
LAST-MODIFIED;VALUE=DATE-TIME:20260421T091534Z
URL:https://www.molletvalles.cat/ca/actualitat/agenda/exposicio-respira
END:VEVENT
END:VCALENDAR
