BEGIN:VCALENDAR
VERSION:2.0
PRODID:-//Plone.org//NONSGML plone.app.event//EN
X-WR-TIMEZONE:Europe/Madrid
BEGIN:VEVENT
SUMMARY:Festa d’estiu del Club de jubilats del barri de Lourdes
DTSTART;TZID=Europe/Madrid;VALUE=DATE-TIME:20230617T190000
DTEND;TZID=Europe/Madrid;VALUE=DATE-TIME:20230617T200000
DTSTAMP;VALUE=DATE-TIME:20260421T140708Z
UID:c29b086ff6324df4851defd4287775dd@www.molletvalles.cat
CATEGORIES:Festes populars,Gent Gran
CREATED;VALUE=DATE-TIME:20230609T115048Z
LAST-MODIFIED;VALUE=DATE-TIME:20230609T115205Z
LOCATION:Casal d'avis de Lourdes
URL:https://www.molletvalles.cat/ca/actualitat/agenda/festa-d2019estiu-del
 -club-de-jubilats-del-barri-de-lourdes
END:VEVENT
BEGIN:VTIMEZONE
TZID:Europe/Madrid
X-LIC-LOCATION:Europe/Madrid
BEGIN:DAYLIGHT
DTSTART;VALUE=DATE-TIME:20230326T030000
TZNAME:CEST
TZOFFSETFROM:+0100
TZOFFSETTO:+0200
END:DAYLIGHT
END:VTIMEZONE
END:VCALENDAR
