BEGIN:VCALENDAR
VERSION:2.0
PRODID:-//Plone.org//NONSGML plone.app.event//EN
X-WR-TIMEZONE:Europe/Madrid
BEGIN:VEVENT
SUMMARY:Festa de final de curs de la Programació d'activitats\, cursos i 
 tallers per a gent gran i entrega de diplomes
DTSTART;TZID=Europe/Madrid;VALUE=DATE-TIME:20250619T173000
DTEND;TZID=Europe/Madrid;VALUE=DATE-TIME:20250619T203000
DTSTAMP;VALUE=DATE-TIME:20260419T232934Z
UID:7973bf33f95d4b4087f0af17adbe16b4@www.molletvalles.cat
CATEGORIES:Actes diversos
CREATED;VALUE=DATE-TIME:20250527T091809Z
LAST-MODIFIED;VALUE=DATE-TIME:20250527T121315Z
URL:https://www.molletvalles.cat/ca/actualitat/agenda/festa-de-final-de-cu
 rs-de-la-programacio-dactivitats-cursos-i-taller-per-a-gent-gran-i-entrega
 -de-diplomes
END:VEVENT
BEGIN:VTIMEZONE
TZID:Europe/Madrid
X-LIC-LOCATION:Europe/Madrid
BEGIN:DAYLIGHT
DTSTART;VALUE=DATE-TIME:20250330T030000
TZNAME:CEST
TZOFFSETFROM:+0100
TZOFFSETTO:+0200
END:DAYLIGHT
END:VTIMEZONE
END:VCALENDAR
