BEGIN:VCALENDAR
VERSION:2.0
PRODID:-//Plone.org//NONSGML plone.app.event//EN
X-WR-TIMEZONE:Europe/Madrid
BEGIN:VEVENT
SUMMARY:FESTA DE LA INFÀNCIA 2023: Lectura de la Declaració un dia d'acc
 ió per a la infància\, amb la infància
DTSTART;TZID=Europe/Madrid;VALUE=DATE-TIME:20231125T120000
DTEND;TZID=Europe/Madrid;VALUE=DATE-TIME:20231125T130000
DTSTAMP;VALUE=DATE-TIME:20260419T170212Z
UID:4551d79b44b3463e841060a048d025ae@www.molletvalles.cat
CATEGORIES:Actes de ciutat
CREATED;VALUE=DATE-TIME:20231115T142524Z
LAST-MODIFIED;VALUE=DATE-TIME:20231124T123003Z
LOCATION:Parc de Can Mulà
URL:https://www.molletvalles.cat/ca/actualitat/agenda/festa-de-la-infancia
 -2023-lectura-de-la-declaracio-un-dia-daccio-per-a-la-infancia-amb-la-infa
 ncia
END:VEVENT
BEGIN:VTIMEZONE
TZID:Europe/Madrid
X-LIC-LOCATION:Europe/Madrid
BEGIN:STANDARD
DTSTART;VALUE=DATE-TIME:20231029T020000
TZNAME:CET
TZOFFSETFROM:+0200
TZOFFSETTO:+0100
END:STANDARD
END:VTIMEZONE
END:VCALENDAR
