BEGIN:VCALENDAR
VERSION:2.0
PRODID:-//Plone.org//NONSGML plone.app.event//EN
X-WR-TIMEZONE:Europe/Madrid
BEGIN:VEVENT
SUMMARY:Festa de La Tramolla pel dia Internacional de la Dansa
DTSTART;TZID=Europe/Madrid;VALUE=DATE-TIME:20230429T110000
DTEND;TZID=Europe/Madrid;VALUE=DATE-TIME:20230429T120000
DTSTAMP;VALUE=DATE-TIME:20260421T135720Z
UID:8ff524e33e144de6a9cb9eb358075a65@www.molletvalles.cat
CATEGORIES:Arts escèniques
CREATED;VALUE=DATE-TIME:20230426T071152Z
DESCRIPTION:DIA INTERNACIONAL DE LA DANSA
LAST-MODIFIED;VALUE=DATE-TIME:20230426T071548Z
LOCATION:Parc de Can Mulà
URL:https://www.molletvalles.cat/ca/actualitat/agenda/festa-de-la-tramolla
 -pel-dia-internacional-de-la-dansa
END:VEVENT
BEGIN:VTIMEZONE
TZID:Europe/Madrid
X-LIC-LOCATION:Europe/Madrid
BEGIN:DAYLIGHT
DTSTART;VALUE=DATE-TIME:20230326T030000
TZNAME:CEST
TZOFFSETFROM:+0100
TZOFFSETTO:+0200
END:DAYLIGHT
END:VTIMEZONE
END:VCALENDAR
