BEGIN:VCALENDAR
VERSION:2.0
PRODID:-//Plone.org//NONSGML plone.app.event//EN
X-WR-TIMEZONE:Europe/Madrid
BEGIN:VEVENT
SUMMARY:FESTA DE LA TRAMOLLA
DTSTART;TZID=Europe/Madrid;VALUE=DATE-TIME:20260425T103000
DTEND;TZID=Europe/Madrid;VALUE=DATE-TIME:20260425T113000
DTSTAMP;VALUE=DATE-TIME:20260422T225201Z
UID:d82f2cb8c1ba45b5a7d14625640d37a5@www.molletvalles.cat
CATEGORIES:Arts escèniques
CREATED;VALUE=DATE-TIME:20260422T115339Z
LAST-MODIFIED;VALUE=DATE-TIME:20260422T115839Z
LOCATION:Parc de Can Mulà
URL:https://www.molletvalles.cat/ca/actualitat/agenda/festa-de-la-tramolla
END:VEVENT
BEGIN:VTIMEZONE
TZID:Europe/Madrid
X-LIC-LOCATION:Europe/Madrid
BEGIN:DAYLIGHT
DTSTART;VALUE=DATE-TIME:20260329T030000
TZNAME:CEST
TZOFFSETFROM:+0100
TZOFFSETTO:+0200
END:DAYLIGHT
END:VTIMEZONE
END:VCALENDAR
