BEGIN:VCALENDAR
VERSION:2.0
PRODID:-//Plone.org//NONSGML plone.app.event//EN
X-WR-TIMEZONE:Europe/Madrid
BEGIN:VEVENT
SUMMARY:FESTIVAL DE MÚSICA BLUEGRASS I OLD-TIME AL RAS
DTSTART;TZID=Europe/Madrid;VALUE=DATE-TIME:20241109T180000
DTEND;TZID=Europe/Madrid;VALUE=DATE-TIME:20241109T190000
DTSTAMP;VALUE=DATE-TIME:20260419T165038Z
UID:617e8126e7be439295ce3990d5a2b199@www.molletvalles.cat
CATEGORIES:Música
CREATED;VALUE=DATE-TIME:20241024T103246Z
LAST-MODIFIED;VALUE=DATE-TIME:20241024T104125Z
URL:https://www.molletvalles.cat/ca/actualitat/agenda/festival-de-musica-b
 luegrass-i-old-time-al-ras
END:VEVENT
BEGIN:VTIMEZONE
TZID:Europe/Madrid
X-LIC-LOCATION:Europe/Madrid
BEGIN:STANDARD
DTSTART;VALUE=DATE-TIME:20241027T020000
TZNAME:CET
TZOFFSETFROM:+0200
TZOFFSETTO:+0100
END:STANDARD
END:VTIMEZONE
END:VCALENDAR
