BEGIN:VCALENDAR
VERSION:2.0
PRODID:-//Plone.org//NONSGML plone.app.event//EN
X-WR-TIMEZONE:Europe/Madrid
BEGIN:VEVENT
SUMMARY:FIRA DE SANT PONÇ
DTSTART;VALUE=DATE:20260507
DTEND;VALUE=DATE:20260508
DTSTAMP;VALUE=DATE-TIME:20260423T172227Z
UID:44ac230192fa4c089635782ab825410b@www.molletvalles.cat
CATEGORIES:Fires i mercats
CREATED;VALUE=DATE-TIME:20260423T103056Z
LAST-MODIFIED;VALUE=DATE-TIME:20260423T104238Z
LOCATION:Rambla Balmes
URL:https://www.molletvalles.cat/ca/actualitat/agenda/fira-de-sant-ponc-1
END:VEVENT
END:VCALENDAR
