BEGIN:VCALENDAR
VERSION:2.0
PRODID:-//Plone.org//NONSGML plone.app.event//EN
X-WR-TIMEZONE:Europe/Madrid
BEGIN:VEVENT
SUMMARY:Gimcana familiar: Jocs de pistes pel Parc de Can Mulà
DTSTART;TZID=Europe/Madrid;VALUE=DATE-TIME:20230710T183000
DTEND;TZID=Europe/Madrid;VALUE=DATE-TIME:20230710T193000
DTSTAMP;VALUE=DATE-TIME:20260421T140422Z
UID:5fc001f7887a4c4a96c35ae20a51e069@www.molletvalles.cat
CATEGORIES:Infantil
CREATED;VALUE=DATE-TIME:20230630T102513Z
LAST-MODIFIED;VALUE=DATE-TIME:20230630T114440Z
LOCATION:Parc de Can Mulà
URL:https://www.molletvalles.cat/ca/actualitat/agenda/gimcana-familiar-joc
 s-de-pistes-pel-parc-de-can-mula-1
END:VEVENT
BEGIN:VTIMEZONE
TZID:Europe/Madrid
X-LIC-LOCATION:Europe/Madrid
BEGIN:DAYLIGHT
DTSTART;VALUE=DATE-TIME:20230326T030000
TZNAME:CEST
TZOFFSETFROM:+0100
TZOFFSETTO:+0200
END:DAYLIGHT
END:VTIMEZONE
END:VCALENDAR
