BEGIN:VCALENDAR
VERSION:2.0
PRODID:-//Plone.org//NONSGML plone.app.event//EN
X-WR-TIMEZONE:Europe/Madrid
BEGIN:VEVENT
SUMMARY:Gimcana familiar: Jocs de pistes pel Parc de Can Mulà
DTSTART;TZID=Europe/Madrid;VALUE=DATE-TIME:20230703T183000
DTEND;TZID=Europe/Madrid;VALUE=DATE-TIME:20230703T193000
DTSTAMP;VALUE=DATE-TIME:20260421T140233Z
UID:a069c7da86254a8987d9c30859152d25@www.molletvalles.cat
CATEGORIES:Infantil
CREATED;VALUE=DATE-TIME:20230628T085603Z
LAST-MODIFIED;VALUE=DATE-TIME:20230630T112308Z
LOCATION:Parc de Can Mulà
URL:https://www.molletvalles.cat/ca/actualitat/agenda/gimcana-familiar-joc
 s-de-pistes-pel-parc-de-can-mula
END:VEVENT
BEGIN:VTIMEZONE
TZID:Europe/Madrid
X-LIC-LOCATION:Europe/Madrid
BEGIN:DAYLIGHT
DTSTART;VALUE=DATE-TIME:20230326T030000
TZNAME:CEST
TZOFFSETFROM:+0100
TZOFFSETTO:+0200
END:DAYLIGHT
END:VTIMEZONE
END:VCALENDAR
