BEGIN:VCALENDAR
VERSION:2.0
PRODID:-//Plone.org//NONSGML plone.app.event//EN
X-WR-TIMEZONE:Europe/Madrid
BEGIN:VEVENT
SUMMARY:Festa de la Verge de Caacupé
DTSTART;TZID=Europe/Madrid;VALUE=DATE-TIME:20241208T130000
DTEND;TZID=Europe/Madrid;VALUE=DATE-TIME:20241208T220000
DTSTAMP;VALUE=DATE-TIME:20260423T171618Z
UID:3382258e14494f07acaf0ba0efe483f0@www.molletvalles.cat
CATEGORIES:Festes populars
CREATED;VALUE=DATE-TIME:20241114T101135Z
LAST-MODIFIED;VALUE=DATE-TIME:20241204T102224Z
URL:https://www.molletvalles.cat/ca/actualitat/agenda/homenatge-a-la-verge
 -de-caacupe
END:VEVENT
BEGIN:VTIMEZONE
TZID:Europe/Madrid
X-LIC-LOCATION:Europe/Madrid
BEGIN:STANDARD
DTSTART;VALUE=DATE-TIME:20241027T020000
TZNAME:CET
TZOFFSETFROM:+0200
TZOFFSETTO:+0100
END:STANDARD
END:VTIMEZONE
END:VCALENDAR
