BEGIN:VCALENDAR
VERSION:2.0
PRODID:-//Plone.org//NONSGML plone.app.event//EN
X-WR-TIMEZONE:Europe/Madrid
BEGIN:VEVENT
SUMMARY:Hora del conte: "Dracs\, roses ... Sant Jordi!" amb Núria Clemare
 s
DTSTART;TZID=Europe/Madrid;VALUE=DATE-TIME:20260424T173000
DTEND;TZID=Europe/Madrid;VALUE=DATE-TIME:20260424T183000
DTSTAMP;VALUE=DATE-TIME:20260422T002706Z
UID:d80fc34758524338aaa4b6ac6fa8f14a@www.molletvalles.cat
CATEGORIES:Infantil
CREATED;VALUE=DATE-TIME:20260421T062125Z
DESCRIPTION:SANT JORDI 2026
LAST-MODIFIED;VALUE=DATE-TIME:20260421T071950Z
URL:https://www.molletvalles.cat/ca/actualitat/agenda/hora-del-conte-dracs
 -roses-sant-jordi-amb-nuria-clemares
END:VEVENT
BEGIN:VTIMEZONE
TZID:Europe/Madrid
X-LIC-LOCATION:Europe/Madrid
BEGIN:DAYLIGHT
DTSTART;VALUE=DATE-TIME:20260329T030000
TZNAME:CEST
TZOFFSETFROM:+0100
TZOFFSETTO:+0200
END:DAYLIGHT
END:VTIMEZONE
END:VCALENDAR
