BEGIN:VCALENDAR
VERSION:2.0
PRODID:-//Plone.org//NONSGML plone.app.event//EN
X-WR-TIMEZONE:Europe/Madrid
BEGIN:VEVENT
SUMMARY:Hora del Conte: "La mentida"
DTSTART;TZID=Europe/Madrid;VALUE=DATE-TIME:20230713T183000
DTEND;TZID=Europe/Madrid;VALUE=DATE-TIME:20230713T193000
DTSTAMP;VALUE=DATE-TIME:20260423T120346Z
UID:caa7a2be676947f68fe02a83b6e29aec@www.molletvalles.cat
CATEGORIES:Infantil
CREATED;VALUE=DATE-TIME:20230703T080407Z
LAST-MODIFIED;VALUE=DATE-TIME:20230703T085548Z
LOCATION:Bibliojardí de la Biblioteca Can Mulà- Jordi Solé Tura
URL:https://www.molletvalles.cat/ca/actualitat/agenda/hora-del-conte-la-me
 ntida
END:VEVENT
BEGIN:VTIMEZONE
TZID:Europe/Madrid
X-LIC-LOCATION:Europe/Madrid
BEGIN:DAYLIGHT
DTSTART;VALUE=DATE-TIME:20230326T030000
TZNAME:CEST
TZOFFSETFROM:+0100
TZOFFSETTO:+0200
END:DAYLIGHT
END:VTIMEZONE
END:VCALENDAR
