BEGIN:VCALENDAR
VERSION:2.0
PRODID:-//Plone.org//NONSGML plone.app.event//EN
X-WR-TIMEZONE:Europe/Madrid
BEGIN:VEVENT
SUMMARY:Hora del Conte Menuda: "L'Estrella de mar"\, a càrrec d'Enrenou T
 eatre
DTSTART;TZID=Europe/Madrid;VALUE=DATE-TIME:20240927T173000
DTEND;TZID=Europe/Madrid;VALUE=DATE-TIME:20240927T183000
DTSTAMP;VALUE=DATE-TIME:20260421T140003Z
UID:78d43dbe85524323a82e5b17fb7c16af@www.molletvalles.cat
CATEGORIES:Arts Escèniques,Infantil
CREATED;VALUE=DATE-TIME:20240917T114804Z
LAST-MODIFIED;VALUE=DATE-TIME:20240917T115129Z
URL:https://www.molletvalles.cat/ca/actualitat/agenda/hora-del-conte-menud
 a-lestrella-de-mar-a-carrec-denrenou-teatre
END:VEVENT
BEGIN:VTIMEZONE
TZID:Europe/Madrid
X-LIC-LOCATION:Europe/Madrid
BEGIN:DAYLIGHT
DTSTART;VALUE=DATE-TIME:20240331T030000
TZNAME:CEST
TZOFFSETFROM:+0100
TZOFFSETTO:+0200
END:DAYLIGHT
END:VTIMEZONE
END:VCALENDAR
