BEGIN:VCALENDAR
VERSION:2.0
PRODID:-//Plone.org//NONSGML plone.app.event//EN
X-WR-TIMEZONE:Europe/Madrid
BEGIN:VEVENT
SUMMARY:I els divendres\, què?: Monòleg de la Mariona Esplugues\, "Boja"
DTSTART;TZID=Europe/Madrid;VALUE=DATE-TIME:20260424T210000
DTEND;TZID=Europe/Madrid;VALUE=DATE-TIME:20260424T220000
DTSTAMP;VALUE=DATE-TIME:20260422T225831Z
UID:739a0b50d5784bdfba39f65235a0306a@www.molletvalles.cat
CATEGORIES:Arts escèniques
CREATED;VALUE=DATE-TIME:20260422T121441Z
LAST-MODIFIED;VALUE=DATE-TIME:20260422T122321Z
URL:https://www.molletvalles.cat/ca/actualitat/agenda/i-els-divendres-que-
 monoleg-de-la-mariona-esplugues-boja
END:VEVENT
BEGIN:VTIMEZONE
TZID:Europe/Madrid
X-LIC-LOCATION:Europe/Madrid
BEGIN:DAYLIGHT
DTSTART;VALUE=DATE-TIME:20260329T030000
TZNAME:CEST
TZOFFSETFROM:+0100
TZOFFSETTO:+0200
END:DAYLIGHT
END:VTIMEZONE
END:VCALENDAR
